BEGIN:VCALENDAR
VERSION:2.0
PRODID:-//Thomas Concrete Machinery - ECPv6.15.15//NONSGML v1.0//EN
CALSCALE:GREGORIAN
METHOD:PUBLISH
X-WR-CALNAME:Thomas Concrete Machinery
X-ORIGINAL-URL:https://thomasconcretemachinery.com/es
X-WR-CALDESC:Eventos para Thomas Concrete Machinery
REFRESH-INTERVAL;VALUE=DURATION:PT1H
X-Robots-Tag:noindex
X-PUBLISHED-TTL:PT1H
BEGIN:VTIMEZONE
TZID:America/New_York
BEGIN:DAYLIGHT
TZOFFSETFROM:-0500
TZOFFSETTO:-0400
TZNAME:EDT
DTSTART:20230312T070000
END:DAYLIGHT
BEGIN:STANDARD
TZOFFSETFROM:-0400
TZOFFSETTO:-0500
TZNAME:EST
DTSTART:20231105T060000
END:STANDARD
BEGIN:DAYLIGHT
TZOFFSETFROM:-0500
TZOFFSETTO:-0400
TZNAME:EDT
DTSTART:20240310T070000
END:DAYLIGHT
BEGIN:STANDARD
TZOFFSETFROM:-0400
TZOFFSETTO:-0500
TZNAME:EST
DTSTART:20241103T060000
END:STANDARD
BEGIN:DAYLIGHT
TZOFFSETFROM:-0500
TZOFFSETTO:-0400
TZNAME:EDT
DTSTART:20250309T070000
END:DAYLIGHT
BEGIN:STANDARD
TZOFFSETFROM:-0400
TZOFFSETTO:-0500
TZNAME:EST
DTSTART:20251102T060000
END:STANDARD
END:VTIMEZONE
BEGIN:VEVENT
DTSTART;TZID=America/New_York:20240713T080000
DTEND;TZID=America/New_York:20240713T170000
DTSTAMP:20260420T125301
CREATED:20240426T063630Z
LAST-MODIFIED:20240618T165754Z
UID:3630-1720857600-1720890000@thomasconcretemachinery.com
SUMMARY:ACPA Operator Safety Seminar
DESCRIPTION:
URL:https://thomasconcretemachinery.com/es/event/acpa-operator-safety-seminar/
LOCATION:Thomas Concrete\, 2905 S Orange Blossom Trl\, Orlando\, Florida\, 32805\, United States
ORGANIZER;CN="Thomas Concrete Machinery":MAILTO:sales@thomasconcretemachinery.com
END:VEVENT
END:VCALENDAR